BEGIN:VCALENDAR
VERSION:2.0
PRODID:-//Rajarshi Janak University, Janakpurdham Nepal - ECPv6.15.20//NONSGML v1.0//EN
CALSCALE:GREGORIAN
METHOD:PUBLISH
X-ORIGINAL-URL:https://rju.edu.np
X-WR-CALDESC:Events for Rajarshi Janak University, Janakpurdham Nepal
REFRESH-INTERVAL;VALUE=DURATION:PT1H
X-Robots-Tag:noindex
X-PUBLISHED-TTL:PT1H
BEGIN:VTIMEZONE
TZID:Asia/Katmandu
BEGIN:STANDARD
TZOFFSETFROM:+0545
TZOFFSETTO:+0545
TZNAME:+0545
DTSTART:20240101T000000
END:STANDARD
END:VTIMEZONE
BEGIN:VEVENT
DTSTART;TZID=Asia/Katmandu:20250427T103000
DTEND;TZID=Asia/Katmandu:20250427T170000
DTSTAMP:20260420T133546
CREATED:20250424T085116Z
LAST-MODIFIED:20250424T085641Z
UID:9449-1745749800-1745773200@rju.edu.np
SUMMARY:Celebrating International Year of Quantum Science and Technology 2025
DESCRIPTION:
URL:https://rju.edu.np/event/celebrating-international-year-of-quantum-science-and-technology-2025/
LOCATION:Monastic College of Management & Technology\, Bhanu chowk\, Janakpurdhm (Affiliated to RJU\, Bhanu Chowk\, Janakpurdham\, 2\, Nepal
CATEGORIES:Seminar
ATTACH;FMTTYPE=image/png:https://rju.edu.np/wp-content/uploads/2025/12/rju-featured-image.png
ORGANIZER;CN="Rajarshi Janak University":MAILTO:info@rju.edu.np
END:VEVENT
END:VCALENDAR